BEGIN:VCALENDAR
VERSION:2.0
PRODID:-//eventon.com NONSGML v1.0//EN
BEGIN:VEVENT
UID:69e9d8c5b2d6d
DTSTAMP:20260423T103101
DTSTART:20170713T130000Z
DTEND:20170713T140000Z
LOCATION:Radio Dynamo Foro Buonaparte\,  54\,  20121 Milano\,  Italia
SUMMARY:E..STATE CON DYNAMO
DESCRIPTION: E..STATE CON DYNAMO!! [audio mp3="https://www.radiodynamo.it/wp-content/uploads/2017/07/ECD12072017__01.mp3"][/audio] [audio mp3="https://www.radiodynamo.it/wp-content/uploads/2017/07/ECD12072017__02.mp3"][/audio] [audio mp3="https://www.radiodynamo.it/wp-content/uploads/2017/07/ECD12072017__03.mp3"][/audio] [audio mp3="https://www.radiodynamo.it/wp-content/uploads/2017/07/ECD12072017__04.mp3"][/audio] [audio mp3="https://www.radiodynamo.it/wp-content/uploads/2017/07/ECD12072017__05.mp3"][/audio] [audio mp3="https://www.radiodynamo.it/wp-content/uploads/2017/07/ECD12072017__06.mp3"][/audio] [audio mp3="https://www.radiodynamo.it/wp-content/uploads/2017/07/ECD12072017__07.mp3"][/audio] [audio mp3="https://www.radiodynamo.it/wp-content/uploads/2017/07/ECD12072017__08.mp3"][/audio]
END:VEVENT
END:VCALENDAR