BEGIN:VCALENDAR
VERSION:2.0
PRODID:-//eventon.com NONSGML v1.0//EN
BEGIN:VEVENT
UID:69e889aab0f17
DTSTAMP:20260422T104114
DTSTART:20170712T130000Z
DTEND:20170712T140000Z
LOCATION:DYNAMO TRUCK Piazza IV Novembre\,  Bari\,  Italia
SUMMARY:LA DIRETTA
DESCRIPTION: LA DIRETTA CON LA BANDA "I MINIPOLIFONICI": [audio mp3="https://www.radiodynamo.it/wp-content/uploads/2017/07/DIRETTA12072017BK01.mp3"][/audio] [audio mp3="https://www.radiodynamo.it/wp-content/uploads/2017/07/DIRETTA12072017BK02.mp3"][/audio] [audio mp3="https://www.radiodynamo.it/wp-content/uploads/2017/07/DIRETTA12072017BK03OK.mp3"][/audio] [audio mp3="https://www.radiodynamo.it/wp-content/uploads/2017/07/DIRETTA12072017BK03OK_2.mp3"][/audio] [audio mp3="https://www.radiodynamo.it/wp-content/uploads/2017/07/DIRETTA12072017BK04.mp3"][/audio] [audio mp3="https://www.radiodynamo.it/wp-content/uploads/2017/07/DIRETTA12072017BK05.mp3"][/audio] [audio mp3="https://www.radiodynamo.it/wp-content/uploads/2017/07/DIRETTA12072017BK06.mp3"][/audio]  
END:VEVENT
END:VCALENDAR