BEGIN:VCALENDAR
VERSION:2.0
PRODID:-//eventon.com NONSGML v1.0//EN
BEGIN:VEVENT
UID:69e9dde296941
DTSTAMP:20260423T105250
DTSTART:20170626T200000Z
DTEND:20170627T200000Z
LOCATION:Centro Maria Letizia Verga Via Giambattista Pergolesi\,  33\,  20900 Monza MB\,  Italia
SUMMARY:M. L. Verga - MB
DESCRIPTION: SE FOSSI UN CANTANTE: [audio mp3="https://www.radiodynamo.it/wp-content/uploads/2017/08/GLITTER-CANTANTE.mp3"][/audio] ...E QUESTA È RADIO DYNAMO!! [audio mp3="https://www.radiodynamo.it/wp-content/uploads/2017/08/GLITTER-ID.mp3"][/audio] RADIO DYNAMO...PER SENTIRTI MEGLIO!!! [audio mp3="https://www.radiodynamo.it/wp-content/uploads/2017/08/LINER011.mp3"][/audio]
END:VEVENT
END:VCALENDAR