BEGIN:VCALENDAR
VERSION:2.0
PRODID:-//eventon.com NONSGML v1.0//EN
BEGIN:VEVENT
UID:69e7d7b7031ae
DTSTAMP:20260421T220159
DTSTART:20170920T130000Z
DTEND:20170920T140000Z
LOCATION:TONI&GUY Via Vincenzo Monti\,  27\,  20123 Milano MI\,  Italia
SUMMARY:Live @Toni&Guy
DESCRIPTION: LA DIRETTA!!! [audio mp3="https://www.radiodynamo.it/wp-content/uploads/2017/09/toniguyBK01.mp3"][/audio] [audio mp3="https://www.radiodynamo.it/wp-content/uploads/2017/09/toniguyBK02.mp3"][/audio] [audio mp3="https://www.radiodynamo.it/wp-content/uploads/2017/09/toniguyBK03.mp3"][/audio] [audio mp3="https://www.radiodynamo.it/wp-content/uploads/2017/09/toniguyBK04.mp3"][/audio] [audio mp3="https://www.radiodynamo.it/wp-content/uploads/2017/09/toniguyBK05.mp3"][/audio] [audio mp3="https://www.radiodynamo.it/wp-content/uploads/2017/09/toniguyBK06.mp3"][/audio] [audio mp3="https://www.radiodynamo.it/wp-content/uploads/2017/09/toniguyBK07.mp3"][/audio] [audio mp3="https://www.radiodynamo.it/wp-content/uploads/2017/09/toniguyBK08.mp3"][/audio]  
END:VEVENT
END:VCALENDAR